BEGIN:VCALENDAR
VERSION:2.0
PRODID:-//Kita &quot;An der Elbaue&quot; Dresden - ECPv6.15.20//NONSGML v1.0//EN
CALSCALE:GREGORIAN
METHOD:PUBLISH
X-WR-CALNAME:Kita &quot;An der Elbaue&quot; Dresden
X-ORIGINAL-URL:https://kita-elbaue.de
X-WR-CALDESC:Veranstaltungen für Kita &quot;An der Elbaue&quot; Dresden
REFRESH-INTERVAL;VALUE=DURATION:PT1H
X-Robots-Tag:noindex
X-PUBLISHED-TTL:PT1H
BEGIN:VTIMEZONE
TZID:Europe/Berlin
BEGIN:DAYLIGHT
TZOFFSETFROM:+0100
TZOFFSETTO:+0200
TZNAME:CEST
DTSTART:20250330T010000
END:DAYLIGHT
BEGIN:STANDARD
TZOFFSETFROM:+0200
TZOFFSETTO:+0100
TZNAME:CET
DTSTART:20251026T010000
END:STANDARD
BEGIN:DAYLIGHT
TZOFFSETFROM:+0100
TZOFFSETTO:+0200
TZNAME:CEST
DTSTART:20260329T010000
END:DAYLIGHT
BEGIN:STANDARD
TZOFFSETFROM:+0200
TZOFFSETTO:+0100
TZNAME:CET
DTSTART:20261025T010000
END:STANDARD
BEGIN:DAYLIGHT
TZOFFSETFROM:+0100
TZOFFSETTO:+0200
TZNAME:CEST
DTSTART:20270328T010000
END:DAYLIGHT
BEGIN:STANDARD
TZOFFSETFROM:+0200
TZOFFSETTO:+0100
TZNAME:CET
DTSTART:20271031T010000
END:STANDARD
END:VTIMEZONE
BEGIN:VEVENT
DTSTART;TZID=Europe/Berlin:20260423T080000
DTEND;TZID=Europe/Berlin:20260423T113000
DTSTAMP:20260423T021548
CREATED:20260220T100138Z
LAST-MODIFIED:20260223T184616Z
UID:4290-1776931200-1776943800@kita-elbaue.de
SUMMARY:4-Jährigen-Untersuchung (I.)
DESCRIPTION:Am 23.04. (Do.)\, \n28.05. (Do.) sowie \n09.07.2026 (Do.) \nführt der Kinder- und Jugendärztliche Dienst im Auftrag des Gesundheitsamtes seine jährliche routinemäßige Untersuchung aller 4-Jährigen (Kinder welche im Zeitraum 01.07.2021-30.06.2022 geboren sind) in unserer Kindertageseinrichtung durch. \nAlle betroffenen Familien werden persönlich angeschrieben. \nBringen Sie am Untersuchungstag Ihres Kindes den durch die Kita ausgegebenen blauen Elternfragebogen\, den Impfausweis und das Vorsorgeheft Ihres Kindes  mit. \nDie Untersuchungen finden jeweils zwischen 8:00 und 11:30 Uhr statt. Sollten Sie persönlich Interesse haben an der Untersuchung Ihres Kindes teilzunehmen\, wenden Sie sich bitte an die Bezugspädagogin Ihres Kindes. Vorausgesetzt\, dass Sie damit einverstanden sind\, planen wir\, dass die Bezugserzieherin bei der Untersuchung dabei ist.
URL:https://kita-elbaue.de/event/4-jaehrigen-untersuchung-6/
END:VEVENT
END:VCALENDAR