BEGIN:VCALENDAR
VERSION:2.0
PRODID:-//Kita &quot;An der Elbaue&quot; Dresden - ECPv6.15.20//NONSGML v1.0//EN
CALSCALE:GREGORIAN
METHOD:PUBLISH
X-WR-CALNAME:Kita &quot;An der Elbaue&quot; Dresden
X-ORIGINAL-URL:https://kita-elbaue.de
X-WR-CALDESC:Veranstaltungen für Kita &quot;An der Elbaue&quot; Dresden
REFRESH-INTERVAL;VALUE=DURATION:PT1H
X-Robots-Tag:noindex
X-PUBLISHED-TTL:PT1H
BEGIN:VTIMEZONE
TZID:Europe/Berlin
BEGIN:DAYLIGHT
TZOFFSETFROM:+0100
TZOFFSETTO:+0200
TZNAME:CEST
DTSTART:20180325T010000
END:DAYLIGHT
BEGIN:STANDARD
TZOFFSETFROM:+0200
TZOFFSETTO:+0100
TZNAME:CET
DTSTART:20181028T010000
END:STANDARD
BEGIN:DAYLIGHT
TZOFFSETFROM:+0100
TZOFFSETTO:+0200
TZNAME:CEST
DTSTART:20190331T010000
END:DAYLIGHT
BEGIN:STANDARD
TZOFFSETFROM:+0200
TZOFFSETTO:+0100
TZNAME:CET
DTSTART:20191027T010000
END:STANDARD
BEGIN:DAYLIGHT
TZOFFSETFROM:+0100
TZOFFSETTO:+0200
TZNAME:CEST
DTSTART:20200329T010000
END:DAYLIGHT
BEGIN:STANDARD
TZOFFSETFROM:+0200
TZOFFSETTO:+0100
TZNAME:CET
DTSTART:20201025T010000
END:STANDARD
END:VTIMEZONE
BEGIN:VEVENT
DTSTART;TZID=Europe/Berlin:20190918T170000
DTEND;TZID=Europe/Berlin:20190918T190000
DTSTAMP:20260423T163346
CREATED:20190918T081625Z
LAST-MODIFIED:20190918T081625Z
UID:582-1568826000-1568833200@kita-elbaue.de
SUMMARY:Elternabend
DESCRIPTION:Ab 17:00 Uhr ist eine Hausführung geplant. Danach findet der Elternabend und die Elternratswahl der Gruppen BUNT und ORANGE statt.
URL:https://kita-elbaue.de/event/elternabend-3/
LOCATION:Kita „An der Elbaue“\, Hetzdorfer Straße 2\, Dresden\, 01169
END:VEVENT
BEGIN:VEVENT
DTSTART;TZID=Europe/Berlin:20190923T160000
DTEND;TZID=Europe/Berlin:20190923T180000
DTSTAMP:20260423T163346
CREATED:20190916T191747Z
LAST-MODIFIED:20190918T081328Z
UID:562-1569254400-1569261600@kita-elbaue.de
SUMMARY:Elternabend
DESCRIPTION:Ab 16:00 Uhr ist eine Hausführung geplant. Danach findet der Elternabend und die Elternratswahl der Gruppen ROT\, GELB und BLAU statt.
URL:https://kita-elbaue.de/event/elternratssitzung/
LOCATION:Kita „An der Elbaue“\, Hetzdorfer Straße 2\, Dresden\, 01169
END:VEVENT
BEGIN:VEVENT
DTSTART;TZID=Europe/Berlin:20190923T170000
DTEND;TZID=Europe/Berlin:20190923T190000
DTSTAMP:20260423T163346
CREATED:20190918T081441Z
LAST-MODIFIED:20190918T081441Z
UID:579-1569258000-1569265200@kita-elbaue.de
SUMMARY:Elternabend
DESCRIPTION:Ab 17:00 Uhr ist eine Hausführung geplant. Danach findet der Elternabend und die Elternratswahl der Gruppen GRÜN und LILA statt.
URL:https://kita-elbaue.de/event/elternabend-2/
LOCATION:Kita „An der Elbaue“\, Hetzdorfer Straße 2\, Dresden\, 01169
END:VEVENT
BEGIN:VEVENT
DTSTART;TZID=Europe/Berlin:20190924T160000
DTEND;TZID=Europe/Berlin:20190924T180000
DTSTAMP:20260423T163346
CREATED:20190916T191956Z
LAST-MODIFIED:20190918T081538Z
UID:565-1569340800-1569348000@kita-elbaue.de
SUMMARY:Elternabend
DESCRIPTION:Ab 16:00 Uhr ist eine Hausführung geplant. Danach findet der Elternabend und die Elternratswahl der Gruppen ROSA und TÜRKIS statt.
URL:https://kita-elbaue.de/event/elternabend/
LOCATION:Kita „An der Elbaue“\, Hetzdorfer Straße 2\, Dresden\, 01169
END:VEVENT
BEGIN:VEVENT
DTSTART;TZID=Europe/Berlin:20190924T170000
DTEND;TZID=Europe/Berlin:20190924T190000
DTSTAMP:20260423T163346
CREATED:20190923T065811Z
LAST-MODIFIED:20190923T065811Z
UID:605-1569344400-1569351600@kita-elbaue.de
SUMMARY:Elternabend
DESCRIPTION:Elternabend der Gruppen BUNT und ORANGE
URL:https://kita-elbaue.de/event/elternabend-4/
END:VEVENT
END:VCALENDAR